BEGIN:VCALENDAR
VERSION:2.0
PRODID:-//hacksw/handcal//NONSGML v1.0//EN
BEGIN:VEVENT
SUMMARY:Nettoyage Jeu d'Arc - Barbecue
UID:a5c5e887-912b-453e-828c-6085918f6b97
DTSTART:20260530T073000Z
DTEND:20260530T150000Z
LOCATION:Localisation   
CATEGORIES:Sportif
STATUS:
URL;VALUE=URI:https://www.arc-soissons.com/evenements/2026/05/30/nettoyage-jeu-darc-barbecue-2434781
END:VEVENT
END:VCALENDAR
