BEGIN:VCALENDAR
VERSION:2.0
PRODID:-//hacksw/handcal//NONSGML v1.0//EN
BEGIN:VEVENT
SUMMARY:Reunion Comite Direction - Jeu d'Arc
UID:d5898b13-a708-488d-9e91-3f00ddf68e13
DTSTART:20260522T180000Z
DTEND:20260522T193000Z
LOCATION:Localisation   
CATEGORIES:Sportif
STATUS:
URL;VALUE=URI:https://www.arc-soissons.com/evenements/2026/05/22/reunion-comite-direction-jeu-darc-2434780
END:VEVENT
END:VCALENDAR
